BEGIN:VCALENDAR
VERSION:2.0
PRODID:-//India Currents - ECPv6.15.20//NONSGML v1.0//EN
CALSCALE:GREGORIAN
METHOD:PUBLISH
X-ORIGINAL-URL:https://indiacurrents.com
X-WR-CALDESC:Events for India Currents
REFRESH-INTERVAL;VALUE=DURATION:PT1H
X-Robots-Tag:noindex
X-PUBLISHED-TTL:PT1H
BEGIN:VTIMEZONE
TZID:America/Los_Angeles
BEGIN:DAYLIGHT
TZOFFSETFROM:-0800
TZOFFSETTO:-0700
TZNAME:PDT
DTSTART:20220313T100000
END:DAYLIGHT
BEGIN:STANDARD
TZOFFSETFROM:-0700
TZOFFSETTO:-0800
TZNAME:PST
DTSTART:20221106T090000
END:STANDARD
BEGIN:DAYLIGHT
TZOFFSETFROM:-0800
TZOFFSETTO:-0700
TZNAME:PDT
DTSTART:20230312T100000
END:DAYLIGHT
BEGIN:STANDARD
TZOFFSETFROM:-0700
TZOFFSETTO:-0800
TZNAME:PST
DTSTART:20231105T090000
END:STANDARD
BEGIN:DAYLIGHT
TZOFFSETFROM:-0800
TZOFFSETTO:-0700
TZNAME:PDT
DTSTART:20240310T100000
END:DAYLIGHT
BEGIN:STANDARD
TZOFFSETFROM:-0700
TZOFFSETTO:-0800
TZNAME:PST
DTSTART:20241103T090000
END:STANDARD
END:VTIMEZONE
BEGIN:VEVENT
DTSTART;VALUE=DATE:20230427
DTEND;VALUE=DATE:20230428
DTSTAMP:20260422T144228
CREATED:20230411T140239Z
LAST-MODIFIED:20230411T140239Z
UID:10001875-1682553600-1682639999@indiacurrents.com
SUMMARY:Dance Dialogues Pop-Up Series: Noorani Dance
DESCRIPTION:In person at the museum. \nMesmerizing pirouettes and the enchanting sound of hundreds of tiny anklet bells highlight a classical form of visual storytelling in this limited series of pop-up performances.  \n\n\n\nThursday\, April 27\, 6 PM and 7 PM\n\n\n\n\nIn April\, local dancers from the Noorani Dance Company lead the Dance Dialogues experience with demonstrations of Kathak — a classical Indian storytelling form marked by intricate footwork\, mesmerizing rhythms\, and the distinctive music of hundreds of small bells worn around the dancers’ ankles.  \nSee our schedule of all Beyond Bollywood events and performances.  \nABOUT THE ARTISTS \nThe Noorani Dance Company is comprised of preprofessional and professional dancers\, committed to enlightening minds and hearts through performances and collaborative partnerships across other forms of performing arts. The company’s founder and artistic director Farah Yasmeen Shaikh is an internationally acclaimed Kathak performer\, choreographer\, and instructor. Having received two decades of training from the late Pandit Chitresh Das\, Farah is known for her evocative storytelling and technical precision; her work addresses topics of historical and social relevance while maintaining the classical elements of Kathak. Since 2015\, she has been performing and teaching throughout Pakistan\, becoming a sought-after presence and contributor to the Pakistani cultural arts landscape.  \nABOUT DANCE DIALOGUES \nDance Dialogues pop-ups will be offered in April (Indian)\, May (Balinese)\, June (Jazz)\, and the second Sunday in July (Cambodian). First come\, first served; space is limited. Each pop-up program features performers of Indian\, Balinese\, Cambodian\, or Jazz styles looking at art with visitors and a museum educator (or on Sundays\, an Art Speak intern)\, then moving to a designated area for a brief performance and Q&A.   \n  \n\n\n\n\n\n\n\n	Related
URL:https://indiacurrents.com/event/dance-dialogues-pop-up-series-noorani-dance/
LOCATION:YANG YAMAZAKI PAVILION
CATEGORIES:Dance
ATTACH;FMTTYPE=image/png:https://indiacurrents.com/wp-content/uploads/2023/04/unnamed-3.png
END:VEVENT
END:VCALENDAR