BEGIN:VCALENDAR
VERSION:2.0
PRODID:-//India Currents - ECPv6.15.20//NONSGML v1.0//EN
CALSCALE:GREGORIAN
METHOD:PUBLISH
X-ORIGINAL-URL:https://indiacurrents.com
X-WR-CALDESC:Events for India Currents
REFRESH-INTERVAL;VALUE=DURATION:PT1H
X-Robots-Tag:noindex
X-PUBLISHED-TTL:PT1H
BEGIN:VTIMEZONE
TZID:America/Los_Angeles
BEGIN:DAYLIGHT
TZOFFSETFROM:-0800
TZOFFSETTO:-0700
TZNAME:PDT
DTSTART:20210314T100000
END:DAYLIGHT
BEGIN:STANDARD
TZOFFSETFROM:-0700
TZOFFSETTO:-0800
TZNAME:PST
DTSTART:20211107T090000
END:STANDARD
BEGIN:DAYLIGHT
TZOFFSETFROM:-0800
TZOFFSETTO:-0700
TZNAME:PDT
DTSTART:20220313T100000
END:DAYLIGHT
BEGIN:STANDARD
TZOFFSETFROM:-0700
TZOFFSETTO:-0800
TZNAME:PST
DTSTART:20221106T090000
END:STANDARD
BEGIN:DAYLIGHT
TZOFFSETFROM:-0800
TZOFFSETTO:-0700
TZNAME:PDT
DTSTART:20230312T100000
END:DAYLIGHT
BEGIN:STANDARD
TZOFFSETFROM:-0700
TZOFFSETTO:-0800
TZNAME:PST
DTSTART:20231105T090000
END:STANDARD
END:VTIMEZONE
BEGIN:VEVENT
DTSTART;TZID=America/Los_Angeles:20221009T170000
DTEND;TZID=America/Los_Angeles:20221009T193000
DTSTAMP:20260425T032158
CREATED:20220926T012128Z
LAST-MODIFIED:20220926T012128Z
UID:10001686-1665334800-1665343800@indiacurrents.com
SUMMARY:Sundara Sangeetham by Gayathri Venkataraghavan
DESCRIPTION:A Carnatic Vocal concert by Gayathri Venkataraghavan\, accompanied by Mysore Srikanth\, and B. Sivaraman \n[Note: Venue changed to Qualcomm Q Auditorium] \n\n\n	Related
URL:https://indiacurrents.com/event/sundara-sangeetham-by-gayathri-venkataraghavan/
LOCATION:San Diego\, 6455 Lusk Blvd\, San Diego\, CA 92121\, USA
CATEGORIES:Classical Indian Music,Concert,Cultural,Music
ATTACH;FMTTYPE=image/webp:https://indiacurrents.com/wp-content/uploads/2022/09/6eac15_a5246958b9d14777bed395264ac88c81_mv2.webp
ORGANIZER;CN="Indian Fine Arts Academy of San Diego (IFAASD)":MAILTO:indianclassicalmusicsandiego@gmail.com
END:VEVENT
END:VCALENDAR