BEGIN:VCALENDAR
VERSION:2.0
PRODID:-//India Currents - ECPv6.15.20//NONSGML v1.0//EN
CALSCALE:GREGORIAN
METHOD:PUBLISH
X-WR-CALNAME:India Currents
X-ORIGINAL-URL:https://indiacurrents.com
X-WR-CALDESC:Events for India Currents
REFRESH-INTERVAL;VALUE=DURATION:PT1H
X-Robots-Tag:noindex
X-PUBLISHED-TTL:PT1H
BEGIN:VTIMEZONE
TZID:America/Los_Angeles
BEGIN:DAYLIGHT
TZOFFSETFROM:-0800
TZOFFSETTO:-0700
TZNAME:PDT
DTSTART:20210314T100000
END:DAYLIGHT
BEGIN:STANDARD
TZOFFSETFROM:-0700
TZOFFSETTO:-0800
TZNAME:PST
DTSTART:20211107T090000
END:STANDARD
BEGIN:DAYLIGHT
TZOFFSETFROM:-0800
TZOFFSETTO:-0700
TZNAME:PDT
DTSTART:20220313T100000
END:DAYLIGHT
BEGIN:STANDARD
TZOFFSETFROM:-0700
TZOFFSETTO:-0800
TZNAME:PST
DTSTART:20221106T090000
END:STANDARD
BEGIN:DAYLIGHT
TZOFFSETFROM:-0800
TZOFFSETTO:-0700
TZNAME:PDT
DTSTART:20230312T100000
END:DAYLIGHT
BEGIN:STANDARD
TZOFFSETFROM:-0700
TZOFFSETTO:-0800
TZNAME:PST
DTSTART:20231105T090000
END:STANDARD
END:VTIMEZONE
BEGIN:VEVENT
DTSTART;VALUE=DATE:20221014
DTEND;VALUE=DATE:20221017
DTSTAMP:20260421T144655
CREATED:20220908T145156Z
LAST-MODIFIED:20220908T145156Z
UID:10001668-1665705600-1665964799@indiacurrents.com
SUMMARY:Chitresh Das Institute World Premiere of "Invoking the River"
DESCRIPTION:CHITRESH DAS INSTITUTE:\nINVOKING THE RIVER \nInvoking the River is a new Kathak dance work that explores the confluence of mythology and environmental changes to India’s sacred rivers with an original score and live music. \nChoreographed by Chitresh Das Institute Artistic Director Charlotte Moraga\, with music composed by pianist Utsav Lal and Multimedia Design and Poetry by Alka Raghuram. Features live musicians Utsav Lal (piano) and Nilan Chaudhuri (tabla). \nWHAT: Chitresh Das Institute and ODC Theater co-present the world premiere of Charlotte Moraga’s Invoking the River\nWHEN: Friday\, October 14\, at 8 pm; Saturday\, October 15\, at 7 pm; and Sunday\, October 16\, at 4 pm at\nTICKETS:$20-$45 \nMORE INFORMATION : CLICK HERE \n\nODC is on the ancestral lands of the Ramaytush People in Yelamu. We pay respects to elders past and present who are still here and part of our community. We recognize that regenerative land management is not new but is a continuation of practices from Native cultures and our own ancestors. Our responsibility is to steward the land with care\, as our elders did before us. \n\n\n	Related
URL:https://indiacurrents.com/event/chitresh-das-institute-world-premiere-of-invoking-the-river/
LOCATION:ODC Theater\, 3153 17th Street\, San Francisco CA 94110
CATEGORIES:Classical Indian Music,Cultural,Dance,Music,Theater
ATTACH;FMTTYPE=image/jpeg:https://indiacurrents.com/wp-content/uploads/2022/09/B009EAF21A5B41E4AFE4095DC403D43E.jpg
END:VEVENT
END:VCALENDAR