BEGIN:VCALENDAR
VERSION:2.0
PRODID:-//India Currents - ECPv6.15.20//NONSGML v1.0//EN
CALSCALE:GREGORIAN
METHOD:PUBLISH
X-WR-CALNAME:India Currents
X-ORIGINAL-URL:https://indiacurrents.com
X-WR-CALDESC:Events for India Currents
REFRESH-INTERVAL;VALUE=DURATION:PT1H
X-Robots-Tag:noindex
X-PUBLISHED-TTL:PT1H
BEGIN:VTIMEZONE
TZID:America/Los_Angeles
BEGIN:DAYLIGHT
TZOFFSETFROM:-0800
TZOFFSETTO:-0700
TZNAME:PDT
DTSTART:20250309T100000
END:DAYLIGHT
BEGIN:STANDARD
TZOFFSETFROM:-0700
TZOFFSETTO:-0800
TZNAME:PST
DTSTART:20251102T090000
END:STANDARD
BEGIN:DAYLIGHT
TZOFFSETFROM:-0800
TZOFFSETTO:-0700
TZNAME:PDT
DTSTART:20260308T100000
END:DAYLIGHT
BEGIN:STANDARD
TZOFFSETFROM:-0700
TZOFFSETTO:-0800
TZNAME:PST
DTSTART:20261101T090000
END:STANDARD
BEGIN:DAYLIGHT
TZOFFSETFROM:-0800
TZOFFSETTO:-0700
TZNAME:PDT
DTSTART:20270314T100000
END:DAYLIGHT
BEGIN:STANDARD
TZOFFSETFROM:-0700
TZOFFSETTO:-0800
TZNAME:PST
DTSTART:20271107T090000
END:STANDARD
END:VTIMEZONE
BEGIN:VEVENT
DTSTART;VALUE=DATE:20260610
DTEND;VALUE=DATE:20260702
DTSTAMP:20260419T063647
CREATED:20260317T180503Z
LAST-MODIFIED:20260317T180503Z
UID:10007326-1781049600-1782950399@indiacurrents.com
SUMMARY:Kathak Summer Program\, 2026
DESCRIPTION:Join us on the dance floor this summer! Noorani Dance has multiple programs for all ages & levels: \n🌟 4 Week Session 🌟\nLevel: Beginning Children (Age 8+)\, Teens & Adults\nWednesdays\, June 10-July 1\, 6-7pm \n🌟 4 Week Session 🌟\nLevel: Int & Adv Children (Age 8+)\, Teens & Adults\nWednesdays\, June 10-July 1\, 7-8:30pm \n🌟 Kathak Youth Summer Program 🌟\nMixed Level Children (Age 5+)\nMon\, Aug 3 – Fri\, Aug 7: 9:30am-3:30pm \nExplore the joy of movement while connecting to a rich cultural tradition. \nLimited spots available – sign up today! \n🗓️ Register by March 31 for the highest discount\n📍 Menlo Park\, CA \nVisit NooraniDance.com or the link in our bio for details and to register. \n\n\n	Related
URL:https://indiacurrents.com/event/kathak-summer-program-2026/2026-06-10/
LOCATION:Menlo Park\, CA\, United States
CATEGORIES:Dance,school students,Workshop
ATTACH;FMTTYPE=image/jpeg:https://indiacurrents.com/wp-content/uploads/2026/03/ND-4x5-1.jpg
END:VEVENT
BEGIN:VEVENT
DTSTART;VALUE=DATE:20260803
DTEND;VALUE=DATE:20260804
DTSTAMP:20260419T063647
CREATED:20260317T180503Z
LAST-MODIFIED:20260317T180503Z
UID:10007327-1785749400-1785771000@indiacurrents.com
SUMMARY:Kathak Summer Program\, 2026
DESCRIPTION:Join us on the dance floor this summer! Noorani Dance has multiple programs for all ages & levels: \n🌟 4 Week Session 🌟\nLevel: Beginning Children (Age 8+)\, Teens & Adults\nWednesdays\, June 10-July 1\, 6-7pm \n🌟 4 Week Session 🌟\nLevel: Int & Adv Children (Age 8+)\, Teens & Adults\nWednesdays\, June 10-July 1\, 7-8:30pm \n🌟 Kathak Youth Summer Program 🌟\nMixed Level Children (Age 5+)\nMon\, Aug 3 – Fri\, Aug 7: 9:30am-3:30pm \nExplore the joy of movement while connecting to a rich cultural tradition. \nLimited spots available – sign up today! \n🗓️ Register by March 31 for the highest discount\n📍 Menlo Park\, CA \nVisit NooraniDance.com or the link in our bio for details and to register. \n\n\n	Related
URL:https://indiacurrents.com/event/kathak-summer-program-2026/2026-08-03/
LOCATION:Menlo Park\, CA\, United States
CATEGORIES:Dance,school students,Workshop
ATTACH;FMTTYPE=image/jpeg:https://indiacurrents.com/wp-content/uploads/2026/03/ND-4x5-1.jpg
END:VEVENT
END:VCALENDAR