BEGIN:VCALENDAR
VERSION:2.0
PRODID:-//India Currents - ECPv6.15.20//NONSGML v1.0//EN
CALSCALE:GREGORIAN
METHOD:PUBLISH
X-ORIGINAL-URL:https://indiacurrents.com
X-WR-CALDESC:Events for India Currents
REFRESH-INTERVAL;VALUE=DURATION:PT1H
X-Robots-Tag:noindex
X-PUBLISHED-TTL:PT1H
BEGIN:VTIMEZONE
TZID:America/Los_Angeles
BEGIN:DAYLIGHT
TZOFFSETFROM:-0800
TZOFFSETTO:-0700
TZNAME:PDT
DTSTART:20220313T100000
END:DAYLIGHT
BEGIN:STANDARD
TZOFFSETFROM:-0700
TZOFFSETTO:-0800
TZNAME:PST
DTSTART:20221106T090000
END:STANDARD
BEGIN:DAYLIGHT
TZOFFSETFROM:-0800
TZOFFSETTO:-0700
TZNAME:PDT
DTSTART:20230312T100000
END:DAYLIGHT
BEGIN:STANDARD
TZOFFSETFROM:-0700
TZOFFSETTO:-0800
TZNAME:PST
DTSTART:20231105T090000
END:STANDARD
BEGIN:DAYLIGHT
TZOFFSETFROM:-0800
TZOFFSETTO:-0700
TZNAME:PDT
DTSTART:20240310T100000
END:DAYLIGHT
BEGIN:STANDARD
TZOFFSETFROM:-0700
TZOFFSETTO:-0800
TZNAME:PST
DTSTART:20241103T090000
END:STANDARD
END:VTIMEZONE
BEGIN:VEVENT
DTSTART;VALUE=DATE:20230108
DTEND;VALUE=DATE:20230508
DTSTAMP:20260421T044054
CREATED:20221117T161401Z
LAST-MODIFIED:20221117T161401Z
UID:10001732-1673136000-1683503999@indiacurrents.com
SUMMARY:Noorani Dance School - Winter/Spring Session
DESCRIPTION:Timings: \n9:30am-11am: Beginning Children \n9:30am-11am: Beginning Pre Teens\, Teens & Adults \n11am-1pm: Intermediate/Advanced Adults \n11:30am-1:30pm: Intermediate/Advanced Pre Teens & Teens \nFor more information on any of our programs\, classes or events at Noorani Dance School\,please email schooladmin@nooranidance.com \nMore info & register \n\n\n	Related
URL:https://indiacurrents.com/event/noorani-dance-school-winter-spring-session/
LOCATION:Menlo Park Academy of Dance    3925 Bohannon Drive\, Ste 200B  – Menlo Park
CATEGORIES:Cultural,Dance
ATTACH;FMTTYPE=image/png:https://indiacurrents.com/wp-content/uploads/2022/11/unnamed-1-1.png
END:VEVENT
END:VCALENDAR