BEGIN:VCALENDAR
VERSION:2.0
PRODID:-//India Currents - ECPv6.15.20//NONSGML v1.0//EN
CALSCALE:GREGORIAN
METHOD:PUBLISH
X-ORIGINAL-URL:https://indiacurrents.com
X-WR-CALDESC:Events for India Currents
REFRESH-INTERVAL;VALUE=DURATION:PT1H
X-Robots-Tag:noindex
X-PUBLISHED-TTL:PT1H
BEGIN:VTIMEZONE
TZID:America/Los_Angeles
BEGIN:DAYLIGHT
TZOFFSETFROM:-0800
TZOFFSETTO:-0700
TZNAME:PDT
DTSTART:20210314T100000
END:DAYLIGHT
BEGIN:STANDARD
TZOFFSETFROM:-0700
TZOFFSETTO:-0800
TZNAME:PST
DTSTART:20211107T090000
END:STANDARD
BEGIN:DAYLIGHT
TZOFFSETFROM:-0800
TZOFFSETTO:-0700
TZNAME:PDT
DTSTART:20220313T100000
END:DAYLIGHT
BEGIN:STANDARD
TZOFFSETFROM:-0700
TZOFFSETTO:-0800
TZNAME:PST
DTSTART:20221106T090000
END:STANDARD
BEGIN:DAYLIGHT
TZOFFSETFROM:-0800
TZOFFSETTO:-0700
TZNAME:PDT
DTSTART:20230312T100000
END:DAYLIGHT
BEGIN:STANDARD
TZOFFSETFROM:-0700
TZOFFSETTO:-0800
TZNAME:PST
DTSTART:20231105T090000
END:STANDARD
END:VTIMEZONE
BEGIN:VEVENT
DTSTART;TZID=America/Los_Angeles:20221014T193000
DTEND;TZID=America/Los_Angeles:20221014T193000
DTSTAMP:20260421T174344
CREATED:20221007T030020Z
LAST-MODIFIED:20221007T112009Z
UID:10001593-1665775800-1665775800@indiacurrents.com
SUMMARY:Warwick’s presents Chitra Banerjee Divakaruni THE LAST QUEEN
DESCRIPTION:The Last Queen: A Novel of Courage and Resistance. Chitra Banerjee Divakaruni is an award-winning and bestselling author\, activist\, and professor. Her work has been published in over fifty magazines\, including The Atlantic and The New Yorker\, and included in The Best American Short Stories and The O. Henry Prize Stories. Her books have been translated into twenty-nine languages\, including Dutch\, Hebrew\, Bengali\, Russian\, and Japanese. Several have been used for campus-wide reads and made into films and plays. She teaches at the University of Houston. \nShe rose from commoner to become the last reigning queen of India’s Sikh Empire. In this dazzling novel\, based on true-life events\, bestselling author Chitra Banerjee Divakaruni presents the unforgettable story of Jindan\, who transformed herself from daughter of the royal kennel keeper to powerful monarch. \nSharp-eyed\, stubborn\, and passionate\, Jindan was known for her beauty. When she caught the eye of Maharaja Ranjit Singh\, she was elevated to royalty\, becoming his youngest and last queen – and his favorite. And when her son\, barely six years old\, unexpectedly inherited the throne\, Jindan assumed the regency. She transformed herself from pampered wife to warrior ruler\, determined to protect her people and her son’s birthright from the encroaching British Empire. \nDefying tradition\, she stepped out of the zenana\, cast aside the veil\, and conducted state business in public\, inspiring her subjects in two wars. Her power and influence were so formidable that the British\, fearing an uprising\, robbed the rebel queen of everything she had\, but nothing crushed her indomitable will. \nAn exquisite love story of a king and a commoner\, a cautionary tale about loyalty and betrayal\, a powerful parable of the indestructible bond between mother and child\, and an inspiration for our times\, Chitra Banerjee Divakaruni’s novel brings alive one of the most fearless women of the nineteenth century\, one whose story cries out to be told. \nReserved Seating is available when The Last Queen is pre-ordered from Warwick’s through the linked green “Reserve Seats Here” button above. Only books purchased from Warwick’s will be signed. Please call the Warwick’s Book Dept. (858) 454-0347 for details. \nhttp://www.chitradivakaruni.com/\nhttps://www.facebook.com/chitradivakaruni\n\n\n\n	Related
URL:https://indiacurrents.com/event/warwicks-presents-chitra-banerjee-divakaruni-the-last-queen/
LOCATION:Warwick’s Books\, 7812 Girard Ave\, La Jolla\, CA 92037
CATEGORIES:Books
ATTACH;FMTTYPE=image/jpeg:https://indiacurrents.com/wp-content/uploads/2022/10/9780063161870.jpg
END:VEVENT
END:VCALENDAR