BEGIN:VCALENDAR
VERSION:2.0
PRODID:-//India Currents - ECPv6.15.20//NONSGML v1.0//EN
CALSCALE:GREGORIAN
METHOD:PUBLISH
X-ORIGINAL-URL:https://indiacurrents.com
X-WR-CALDESC:Events for India Currents
REFRESH-INTERVAL;VALUE=DURATION:PT1H
X-Robots-Tag:noindex
X-PUBLISHED-TTL:PT1H
BEGIN:VTIMEZONE
TZID:America/Los_Angeles
BEGIN:DAYLIGHT
TZOFFSETFROM:-0800
TZOFFSETTO:-0700
TZNAME:PDT
DTSTART:20220313T100000
END:DAYLIGHT
BEGIN:STANDARD
TZOFFSETFROM:-0700
TZOFFSETTO:-0800
TZNAME:PST
DTSTART:20221106T090000
END:STANDARD
BEGIN:DAYLIGHT
TZOFFSETFROM:-0800
TZOFFSETTO:-0700
TZNAME:PDT
DTSTART:20230312T100000
END:DAYLIGHT
BEGIN:STANDARD
TZOFFSETFROM:-0700
TZOFFSETTO:-0800
TZNAME:PST
DTSTART:20231105T090000
END:STANDARD
BEGIN:DAYLIGHT
TZOFFSETFROM:-0800
TZOFFSETTO:-0700
TZNAME:PDT
DTSTART:20240310T100000
END:DAYLIGHT
BEGIN:STANDARD
TZOFFSETFROM:-0700
TZOFFSETTO:-0800
TZNAME:PST
DTSTART:20241103T090000
END:STANDARD
BEGIN:DAYLIGHT
TZOFFSETFROM:-0800
TZOFFSETTO:-0700
TZNAME:PDT
DTSTART:20250309T100000
END:DAYLIGHT
BEGIN:STANDARD
TZOFFSETFROM:-0700
TZOFFSETTO:-0800
TZNAME:PST
DTSTART:20251102T090000
END:STANDARD
BEGIN:DAYLIGHT
TZOFFSETFROM:-0800
TZOFFSETTO:-0700
TZNAME:PDT
DTSTART:20260308T100000
END:DAYLIGHT
BEGIN:STANDARD
TZOFFSETFROM:-0700
TZOFFSETTO:-0800
TZNAME:PST
DTSTART:20261101T090000
END:STANDARD
END:VTIMEZONE
BEGIN:VEVENT
DTSTART;TZID=America/Los_Angeles:20250208T100000
DTEND;TZID=America/Los_Angeles:20250208T113000
DTSTAMP:20260425T202239
CREATED:20250207T042351Z
LAST-MODIFIED:20250207T042351Z
UID:10003754-1739008800-1739014200@indiacurrents.com
SUMMARY:The Chandayan: A Sufi Tale of Ishq between Languages\, Cultures & People by Naman Ahuja
DESCRIPTION:Greetings from the South Asian Arts Council. \nWe are thrilled to announce that the 6th Edwin Binney 3rd Lecture will be presented by Naman Ahuja\, Professor of art history at the School of Arts & Aesthetics at Jawaharlal Nehru University\, New Delhi\, India and the General Editor of Marg Publications. \nWe eagerly anticipate your virtual presence at the event and look forward to an engaging and insightful session. \n\n\n	Related
URL:https://indiacurrents.com/event/the-chandayan-a-sufi-tale-of-ishq-between-languages-cultures-people-by-naman-ahuja/
LOCATION:Virtual Event\, United States
ATTACH;FMTTYPE=image/jpeg:https://indiacurrents.com/wp-content/uploads/2025/02/unnamed-4.jpg
END:VEVENT
BEGIN:VEVENT
DTSTART;TZID=America/Los_Angeles:20250208T100000
DTEND;TZID=America/Los_Angeles:20250208T113000
DTSTAMP:20260425T202239
CREATED:20250128T190327Z
LAST-MODIFIED:20250128T190327Z
UID:10003729-1739008800-1739014200@indiacurrents.com
SUMMARY:The Art of Cosmopolitanism in Premodern Kerala
DESCRIPTION:We are delighted to have Dr. Arati Menon present on a topic that previously has not been explored by SAAC – the art and architecture of Kerala. \nSince antiquity\, Kerala on the Malabar Coast of southwestern India has served as a beacon for merchant ships. A confluence of factors\, including Kerala’s fortuitous position in the Indian Ocean mercantile network\, abundant export of spices\, and partnerships rooted in diplomacy and trade\, engendered a regional milieux of multicultural cosmopolitanism and a shared artistic vocabulary across religions. This talk examines architectural and sculptural similitude in Kerala’s premodern churches\, mosques\, synagogues\, and temples\, the agency of local artisans\, and the roles played by rulers\, merchants\, and religious leaders to present a history of art and cosmopolitanism on the Malabar Coast \nLook forward to seeing you virtually at the event. \n\n\n	Related
URL:https://indiacurrents.com/event/the-art-of-cosmopolitanism-in-premodern-kerala/
LOCATION:Virtual Event\, United States
ATTACH;FMTTYPE=image/jpeg:https://indiacurrents.com/wp-content/uploads/2025/01/unnamed-3.jpg
END:VEVENT
BEGIN:VEVENT
DTSTART;TZID=America/Los_Angeles:20241101T100000
DTEND;TZID=America/Los_Angeles:20241101T143000
DTSTAMP:20260425T202239
CREATED:20241029T204848Z
LAST-MODIFIED:20241029T204848Z
UID:10003645-1730455200-1730471400@indiacurrents.com
SUMMARY:Wonders of Creation Symposium
DESCRIPTION:Greetings from the South Asian Arts Council. \nHere is an opportunity to learn more and enjoy discussions on the amazing “Wonders of Creation: Art\, Science and Innovation in the Islamic World” exhibition at SDMA. Tickets are available for the Symposium on Friday. This symposium features distinguished scholars in the history of Islamic visual culture\, science & craft and prominent contemporary artists whose works appear in the exhibit. \n\n\n	Related
URL:https://indiacurrents.com/event/wonders-of-creation-symposium/
LOCATION:James S. Copley Auditorium\, 1450 El Prado\,\, San Diego\, CA\, 92101\, United States
ATTACH;FMTTYPE=image/jpeg:https://indiacurrents.com/wp-content/uploads/2024/10/wonders.jpg
END:VEVENT
BEGIN:VEVENT
DTSTART;TZID=America/Los_Angeles:20241012T100000
DTEND;TZID=America/Los_Angeles:20241012T113000
DTSTAMP:20260425T202239
CREATED:20240920T212137Z
LAST-MODIFIED:20240920T212158Z
UID:10002922-1728727200-1728732600@indiacurrents.com
SUMMARY:Wonders of Creation: A Special Exhibition by Ladan Akbarnia
DESCRIPTION:Greetings from the South Asian Arts Council. \nWe are pleased to have our San Diego Museum of Arts Curator of South Asian and Islamic Art – Dr. Ladan Akbarnia’s presentation on October 12th. \nThis illustrated talk will explore the story and vision behind The San Diego Museum of Art’s current special exhibition\, Wonders of Creation: Art\, Science\, and Innovation in the Islamic World\, on view through January 5\, 2025. \nLook forward to seeing you virtually at the event. \n\n\n	Related
URL:https://indiacurrents.com/event/wonders-of-creation-a-special-exhibition-by-ladan-akbarnia/
LOCATION:Virtual Event\, United States
ATTACH;FMTTYPE=image/jpeg:https://indiacurrents.com/wp-content/uploads/2024/09/ladan.jpg
END:VEVENT
BEGIN:VEVENT
DTSTART;TZID=America/Los_Angeles:20231111T100000
DTEND;TZID=America/Los_Angeles:20231111T113000
DTSTAMP:20260425T202239
CREATED:20231102T182851Z
LAST-MODIFIED:20231102T182952Z
UID:10002732-1699696800-1699702200@indiacurrents.com
SUMMARY:Decadence and Decay: Fashioning the Image of Lady Mary Curzon\, Vicereine of India
DESCRIPTION:A headless mannequin placed within a glass box wears a legendary ball gown commissioned in 1902 by the Vicereine of India\, Mary Curzon. The dress – commissioned for a state ball in Delhi – was as symbolic as it was magnificent\, featuring peacock feathers embroidered in gold\, silver\, and copper threads. Worn on the statuesque body of the Vicereine\, the gown transformed her into “a vision of embodied light” that revealed the opulence of the British Raj rather than the ways in which it was falling apart at the seams. Its display also attempts to highlight the glamour and glory of Empire though it\, too\, is clearly in a state of dramatic and irreversible deterioration. This presentation examines how imperial authority and the subjugation of the Indian Subcontinent were staged on the body of Lady Curzon through dress and ornament\, veiling the steady decline of British rule as well as Curzon’s own failing health. We consider how dress can simultaneously reveal an individual’s authentic self while also laying bare their deepest insecurities\, and explore the tensions between the natural process of decay and our often unnatural efforts to prevent it. \n\n\n	Related
URL:https://indiacurrents.com/event/decadence-and-decay-fashioning-the-image-of-lady-mary-curzon-vicereine-of-india/
LOCATION:Virtual Event\, United States
ATTACH;FMTTYPE=image/png:https://indiacurrents.com/wp-content/uploads/2023/11/curzon.png
END:VEVENT
BEGIN:VEVENT
DTSTART;TZID=America/Los_Angeles:20231021T100000
DTEND;TZID=America/Los_Angeles:20231021T123000
DTSTAMP:20260425T202239
CREATED:20230919T175912Z
LAST-MODIFIED:20230919T180653Z
UID:10002538-1697882400-1697891400@indiacurrents.com
SUMMARY:Beyond the Sharp Edge: Iconography of Indic Arms
DESCRIPTION:Indian arms and armor are frequently adorned with auspicious and sacred imagery to induce shakti (divine power) to enter them\, thus transforming functional objects into implements that hold within them the quality of numen—magical or divine power. This presentation will survey the varieties of Hindu sacred images—goddesses\, gods\, demi-gods\, mythological beasts—that adorn arms and armor of the Indian subcontinent\, and explore the underlying reasons why these specific images may have been chosen among the vast pantheon of Indian sacred imagery. \nPlease join us for a presentation by Ravinder Reddy on October 21 where he will discuss the varieties of Hindu sacred images that adorn arms and armor of the Indian subcontinent. \nRegistration in advance is required for this event. Please register here \n\n\n	Related
URL:https://indiacurrents.com/event/beyond-the-sharp-edge-iconography-of-indic-arms/
LOCATION:Virtual Event\, United States
CATEGORIES:Art
ATTACH;FMTTYPE=image/png:https://indiacurrents.com/wp-content/uploads/2023/09/unnamed.png
END:VEVENT
BEGIN:VEVENT
DTSTART;TZID=America/Los_Angeles:20230311T100000
DTEND;TZID=America/Los_Angeles:20230311T120000
DTSTAMP:20260425T202239
CREATED:20230208T184554Z
LAST-MODIFIED:20230208T184554Z
UID:10001818-1678528800-1678536000@indiacurrents.com
SUMMARY:GODS IN LIVING COLOR: 19TH-CENTURY DEVOTIONAL LITHOGRAPHS FROM CALCUTTA
DESCRIPTION:For over two thousand years\, artists in the Indian Subcontinent have depicted Hindu deities through a wide range of media\, frequently innovating when new techniques and materials became available or in response to social or religious changes. One such moment occurred during the 19th century in the city of Calcutta (now Kolkata)\, when new technologies of reproduction and systems of representation brought by the British Raj—and its allied systems of commerce and culture—opened up new representational possibilities. This lecture will address what happened when lithography and other depictive tools entered a local visual ecosystem already rich with indigenous forms of painted and printed devotional imagery. The new forms of sacred and mythological imagery that Bengali artists created during this moment of transformation were\, until recently\, mostly excluded from the art historical canon. Celebrating and exploring them not only broadens our view of the history of Indian art and religion but also helps us to understand the ever-expanding universe of sacred images that we see in home\, shop and office shrines around the globe today. \n  \nPlease reserve your spot by clicking on this link. All participants will be sent the Zoom link and instructions via email once you secure your place. Space is limited. \nSave my spot! \n\n\n	Related
URL:https://indiacurrents.com/event/gods-in-living-color-19th-century-devotional-lithographs-from-calcutta/
LOCATION:Virtual Event\, United States
CATEGORIES:Art
ATTACH;FMTTYPE=image/jpeg:https://indiacurrents.com/wp-content/uploads/2023/02/Web-capture_8-2-2023_13449_www.sdmart.org_.jpeg
END:VEVENT
BEGIN:VEVENT
DTSTART;TZID=America/Los_Angeles:20230211T100000
DTEND;TZID=America/Los_Angeles:20230211T120000
DTSTAMP:20260425T202239
CREATED:20230208T183812Z
LAST-MODIFIED:20230208T183812Z
UID:10001817-1676109600-1676116800@indiacurrents.com
SUMMARY:TAMIL YOGINIS: GODDESSES OF MULTIPLICITY
DESCRIPTION:Among the sculptures visitors encounter in the Detroit Institute of Arts’ gallery of Indian and Southeast Asian art is a life-sized yogini goddess from southern India\, carved from stone sometime between the late ninth and mid-tenth century. Embodying both attractive and threatening characteristics\, she projects an unmistakable power. In the temple for which she was made\, which no longer survives\, this power would have been amplified by potentially dozens of other such goddesses enshrined alongside her\, many of which are now housed in museums throughout North America\, Europe\, and India. This presentation will explore the changing contexts to which the DIA yogini and her companions have belonged\, from the temple that once enshrined them\, to multiple later shrines\, to the museums that house many of them today. \nWe are excited to begin the new year with a presentation by Dr. Kasdorf of the Detroit Institute of Arts on the topic of Yoginis – female master practitioners of tantra and yoga\, as well as the sacred feminine force made incarnate\, as an aspect of Parvati\, and revered in the yogini temples of India. This presentation will focus on the latter aspect of Yoginis. \nLook forward to seeing you virtually at the event. \nWarm Wishes. \nJai Varadaraj \nChair SAAC@SDMA \nRegistration in advance is required for this event. Please register here \n\n\n	Related
URL:https://indiacurrents.com/event/tamil-yoginis-goddesses-of-multiplicity/
LOCATION:Virtual Event\, United States
CATEGORIES:Art
ATTACH;FMTTYPE=image/jpeg:https://indiacurrents.com/wp-content/uploads/2023/02/unnamed.jpg
END:VEVENT
END:VCALENDAR