BEGIN:VCALENDAR
VERSION:2.0
PRODID:-//India Currents - ECPv6.15.20//NONSGML v1.0//EN
CALSCALE:GREGORIAN
METHOD:PUBLISH
X-ORIGINAL-URL:https://indiacurrents.com
X-WR-CALDESC:Events for India Currents
REFRESH-INTERVAL;VALUE=DURATION:PT1H
X-Robots-Tag:noindex
X-PUBLISHED-TTL:PT1H
BEGIN:VTIMEZONE
TZID:America/Los_Angeles
BEGIN:DAYLIGHT
TZOFFSETFROM:-0800
TZOFFSETTO:-0700
TZNAME:PDT
DTSTART:20220313T100000
END:DAYLIGHT
BEGIN:STANDARD
TZOFFSETFROM:-0700
TZOFFSETTO:-0800
TZNAME:PST
DTSTART:20221106T090000
END:STANDARD
BEGIN:DAYLIGHT
TZOFFSETFROM:-0800
TZOFFSETTO:-0700
TZNAME:PDT
DTSTART:20230312T100000
END:DAYLIGHT
BEGIN:STANDARD
TZOFFSETFROM:-0700
TZOFFSETTO:-0800
TZNAME:PST
DTSTART:20231105T090000
END:STANDARD
BEGIN:DAYLIGHT
TZOFFSETFROM:-0800
TZOFFSETTO:-0700
TZNAME:PDT
DTSTART:20240310T100000
END:DAYLIGHT
BEGIN:STANDARD
TZOFFSETFROM:-0700
TZOFFSETTO:-0800
TZNAME:PST
DTSTART:20241103T090000
END:STANDARD
END:VTIMEZONE
BEGIN:VEVENT
DTSTART;TZID=America/Los_Angeles:20230318T100000
DTEND;TZID=America/Los_Angeles:20230318T130000
DTSTAMP:20260424T055624
CREATED:20230227T035756Z
LAST-MODIFIED:20230227T035756Z
UID:10001694-1679133600-1679144400@indiacurrents.com
SUMMARY:SALONI HOLI
DESCRIPTION:South Bay's Largest Holi\nLive Dance & Music Competition\nSnacks\, Food\, Drinks\, Colors\, Games\nFor Dance Competition : Chandni 669-293-4133\nFor Sponsorships: Akriti 408-234-6696 Holi$saloniheart.org\nEarly bird ends Feb28\,  1pk color incl\, no outside food or colors\nBUY TICKETS\n\n\n	Related
URL:https://indiacurrents.com/event/saloni-holi/
LOCATION:Bret Harte Middle School\, 7050 Bret Harte Dr\, San Jose\, CA 95120
CATEGORIES:Festival,Fundraising campaign,Holi Festival
ATTACH;FMTTYPE=image/jpeg:https://indiacurrents.com/wp-content/uploads/2023/02/2023-02-01-12-53-27-308_74.jpg
END:VEVENT
END:VCALENDAR