BEGIN:VCALENDAR
VERSION:2.0
PRODID:-//India Currents - ECPv6.15.20//NONSGML v1.0//EN
CALSCALE:GREGORIAN
METHOD:PUBLISH
X-ORIGINAL-URL:https://indiacurrents.com
X-WR-CALDESC:Events for India Currents
REFRESH-INTERVAL;VALUE=DURATION:PT1H
X-Robots-Tag:noindex
X-PUBLISHED-TTL:PT1H
BEGIN:VTIMEZONE
TZID:America/Los_Angeles
BEGIN:DAYLIGHT
TZOFFSETFROM:-0800
TZOFFSETTO:-0700
TZNAME:PDT
DTSTART:20210314T100000
END:DAYLIGHT
BEGIN:STANDARD
TZOFFSETFROM:-0700
TZOFFSETTO:-0800
TZNAME:PST
DTSTART:20211107T090000
END:STANDARD
BEGIN:DAYLIGHT
TZOFFSETFROM:-0800
TZOFFSETTO:-0700
TZNAME:PDT
DTSTART:20220313T100000
END:DAYLIGHT
BEGIN:STANDARD
TZOFFSETFROM:-0700
TZOFFSETTO:-0800
TZNAME:PST
DTSTART:20221106T090000
END:STANDARD
BEGIN:DAYLIGHT
TZOFFSETFROM:-0800
TZOFFSETTO:-0700
TZNAME:PDT
DTSTART:20230312T100000
END:DAYLIGHT
BEGIN:STANDARD
TZOFFSETFROM:-0700
TZOFFSETTO:-0800
TZNAME:PST
DTSTART:20231105T090000
END:STANDARD
BEGIN:DAYLIGHT
TZOFFSETFROM:-0800
TZOFFSETTO:-0700
TZNAME:PDT
DTSTART:20240310T100000
END:DAYLIGHT
BEGIN:STANDARD
TZOFFSETFROM:-0700
TZOFFSETTO:-0800
TZNAME:PST
DTSTART:20241103T090000
END:STANDARD
BEGIN:DAYLIGHT
TZOFFSETFROM:-0800
TZOFFSETTO:-0700
TZNAME:PDT
DTSTART:20250309T100000
END:DAYLIGHT
BEGIN:STANDARD
TZOFFSETFROM:-0700
TZOFFSETTO:-0800
TZNAME:PST
DTSTART:20251102T090000
END:STANDARD
BEGIN:DAYLIGHT
TZOFFSETFROM:-0800
TZOFFSETTO:-0700
TZNAME:PDT
DTSTART:20260308T100000
END:DAYLIGHT
BEGIN:STANDARD
TZOFFSETFROM:-0700
TZOFFSETTO:-0800
TZNAME:PST
DTSTART:20261101T090000
END:STANDARD
END:VTIMEZONE
BEGIN:VTIMEZONE
TZID:America/New_York
BEGIN:DAYLIGHT
TZOFFSETFROM:-0500
TZOFFSETTO:-0400
TZNAME:EDT
DTSTART:20240310T070000
END:DAYLIGHT
BEGIN:STANDARD
TZOFFSETFROM:-0400
TZOFFSETTO:-0500
TZNAME:EST
DTSTART:20241103T060000
END:STANDARD
BEGIN:DAYLIGHT
TZOFFSETFROM:-0500
TZOFFSETTO:-0400
TZNAME:EDT
DTSTART:20250309T070000
END:DAYLIGHT
BEGIN:STANDARD
TZOFFSETFROM:-0400
TZOFFSETTO:-0500
TZNAME:EST
DTSTART:20251102T060000
END:STANDARD
BEGIN:DAYLIGHT
TZOFFSETFROM:-0500
TZOFFSETTO:-0400
TZNAME:EDT
DTSTART:20260308T070000
END:DAYLIGHT
BEGIN:STANDARD
TZOFFSETFROM:-0400
TZOFFSETTO:-0500
TZNAME:EST
DTSTART:20261101T060000
END:STANDARD
END:VTIMEZONE
BEGIN:VEVENT
DTSTART;TZID=America/Los_Angeles:20250503T190000
DTEND;TZID=America/Los_Angeles:20250503T220000
DTSTAMP:20260421T053515
CREATED:20250410T071336Z
LAST-MODIFIED:20250410T071336Z
UID:10006430-1746298800-1746309600@indiacurrents.com
SUMMARY:Spellbound - A Mentalism Special By Suhani Shah Live 2025
DESCRIPTION:India’s most-famous mind reader mesmerises audiences worldwide with her ground-breaking magic. In her latest show\, she delves into the depths of mental mysteries with unexpected twists\, compelling storytelling\, and interactive audience engagement. \nWith her charismatic persona\, linguistic deception\, mind-reading prowess and comedic charm\, Suhani guarantees an unforgettable evening that will leave you Spellbound. \n\n\n	Related
URL:https://indiacurrents.com/event/spellbound-a-mentalism-special-by-suhani-shah-live-2025/
LOCATION:Santa Clara Convention Center  5001 Great America Parkway  Santa Clara\, CA 95054
ATTACH;FMTTYPE=image/jpeg:https://indiacurrents.com/wp-content/uploads/2025/04/Australia-Spellbound-1024x1024_20250128062244598_20250129125228834_20250307114929839.jpg
END:VEVENT
BEGIN:VEVENT
DTSTART;TZID=America/New_York:20250127T080000
DTEND;TZID=America/New_York:20250127T170000
DTSTAMP:20260421T053515
CREATED:20250127T181111Z
LAST-MODIFIED:20250127T181111Z
UID:10003727-1737964800-1737997200@indiacurrents.com
SUMMARY:Amit Tandon Stand-Up Comedy: Live in Washington D.C.
DESCRIPTION:Prepare yourself for a night of side-splitting laughter as Amit Tandon\, one of India’s most popular stand-up comedians\, brings his unique brand of humor to the Washington D.C. (DMV) area! Known as the “married guy” in the comedy circuit\, Amit Tandon has won hearts around the world with his witty observations on married life\, parenting\, Indian culture\, and middle-class struggles. His comedy is refreshingly relatable and clean\, making it perfect for audiences of all ages. \nAmit Tandon has quickly become a household name in the Indian and international comedy scene\, with his impeccable comic timing and hilarious takes on the everyday frustrations we all experience. His live performances have captivated audiences across India\, the U.S.\, U.K.\, Australia\, and more\, and now it’s time for the DMV area to experience his uproarious humor firsthand! \nWhat to Expect: \nA Hilarious Evening:\nAmit Tandon’s sharp observational comedy\, focusing on the quirks of Indian culture\, family dynamics\, and everyday life\, guarantees a night filled with laughter. \nFamily-Friendly Fun:\nKnown for keeping his content clean\, Amit’s comedy is suitable for families\, so everyone can join in the fun without worrying about any inappropriate jokes. \nA Global Sensation:\nAmit’s international success includes performing at prestigious comedy clubs like the Laugh Factory and Caroline’s on Broadway\, and he’s one of the first Indian comedians to have his own special on Netflix (“Comedians of the World”). \nAbout Amit Tandon:\nAmit Tandon started his journey in comedy relatively late\, leaving behind a corporate job and diving into the world of stand-up. Today\, he is regarded as one of India’s top comedians\, with millions of fans and viral videos that rack up millions of views on YouTube. He is particularly loved for his clean and observational humor\, which draws from the mundane aspects of life and turns them into laugh-out-loud moments. \nWhy Attend: \nExperience World-Class Comedy: This\nis your chance to watch Amit Tandon live in the DMV area\, and witness firsthand his clever humor and sharp wit that has made him a global sensation. \nPerfect for a Fun Night Out:\nWhether you’re a fan of stand-up comedy or simply looking for a great time with friends and family\, Amit Tandon’s show promises to deliver a memorable evening. \nMeet Like-Minded Comedy Fans:\nJoin other comedy lovers from across the DMV area for an unforgettable night of jokes\, fun\, and endless laughter. \nVenue Information:\nThe show will take place at the Walter Johnson High School Auditorium in Bethesda\, Maryland. This well-equipped venue offers a comfortable and spacious environment\, ensuring that you can enjoy the performance in a relaxed setting. With easy access from Washington D.C.\, Northern Virginia\, and Maryland\, this location makes it convenient for fans across the DMV area to attend the show. \nGet Your Tickets:\nDon’t miss out on this fantastic opportunity to watch Amit Tandon live on stage! Tickets are available now\, but hurry—they’re selling fast! Come with your friends\, family\, or co-workers for a laughter-filled evening that will leave you smiling for days. Reserve your seats now to guarantee you’re part of this unforgettable experience! \nImportant Notes: \nDate:\nSaturday\, February 15\, 2025 \nTime:\nDoors open at 6:30 PM\, and the show begins at 7:00 PM sharp. \nLocation:\nWalter Johnson High School Auditorium\, 6400 Rock Spring Drive\, Bethesda\, MD 20814 \nAge Restrictions:\nThis is a family-friendly event\, and all ages are welcome. \nParking:\nAmple parking is available at the venue. \n\n\n	Related
URL:https://indiacurrents.com/event/amit-tandon-stand-up-comedy-live-in-washington-d-c/
LOCATION:Walter Johnson High School\, 6400 Rock Spring Drive\, Bethesda\, MD 20814\, 6400 Rock Spring Drive\, Bethesda\, MD\, 20814\, United States
CATEGORIES:Comedy
ATTACH;FMTTYPE=image/jpeg:https://indiacurrents.com/wp-content/uploads/2025/01/Amit-Washington-DC.jpg
END:VEVENT
BEGIN:VEVENT
DTSTART;TZID=America/Los_Angeles:20230617T190000
DTEND;TZID=America/Los_Angeles:20230617T190000
DTSTAMP:20260421T053515
CREATED:20230614T190619Z
LAST-MODIFIED:20230614T190619Z
UID:10002482-1687028400-1687028400@indiacurrents.com
SUMMARY:Bay Area Kaneez Surka Stand-Up Comedy Live 2023
DESCRIPTION:Kaneez Surka is a South African improv artist\, actress\, comedian and a YouTuber of an Indian descent\, who works mainly in India. She started her career with the show The Week That Wasn’t. She has performed on various stand up platforms. \n\n\n	Related
URL:https://indiacurrents.com/event/bay-area-kaneez-surka-stand-up-comedy-live-2023/
LOCATION:Sunnyvale Theatre\, 550 E Remington Dr \, Sunnyvale \, CA  94087
ATTACH;FMTTYPE=image/jpeg:https://indiacurrents.com/wp-content/uploads/2023/06/2023-05-09-11-00-36-788_63.jpg
END:VEVENT
BEGIN:VEVENT
DTSTART;TZID=America/Los_Angeles:20220904T190000
DTEND;TZID=America/Los_Angeles:20220904T190000
DTSTAMP:20260421T053515
CREATED:20220806T185034Z
LAST-MODIFIED:20220806T185034Z
UID:10001632-1662318000-1662318000@indiacurrents.com
SUMMARY:AMIT TANDON STAND UP COMEDY
DESCRIPTION:Amit’s brand of observational humor is refreshing and contemporary that has hit a chord with audiences across India. Amit had made his mark with a super relatable style of narrative that makes him connect instantaneously with the audiences. His viral videos have crossed the sacred mark of a whopping 100 million views across the social media platforms. \nFor More information and Tickets click here \n\n\n	Related
URL:https://indiacurrents.com/event/amit-tandon-stand-up-comedy/
LOCATION:CHABOT COLLEGE PERFORMING ARTS CENTER BUILDING 1300\, 25555 HESPERIAN BLVD. HAYWARD\, CA 94545
CATEGORIES:Comedy
ATTACH;FMTTYPE=image/webp:https://indiacurrents.com/wp-content/uploads/2022/08/event_header.webp
END:VEVENT
END:VCALENDAR