BEGIN:VCALENDAR
VERSION:2.0
PRODID:-//India Currents - ECPv6.15.20//NONSGML v1.0//EN
CALSCALE:GREGORIAN
METHOD:PUBLISH
X-ORIGINAL-URL:https://indiacurrents.com
X-WR-CALDESC:Events for India Currents
REFRESH-INTERVAL;VALUE=DURATION:PT1H
X-Robots-Tag:noindex
X-PUBLISHED-TTL:PT1H
BEGIN:VTIMEZONE
TZID:America/Los_Angeles
BEGIN:DAYLIGHT
TZOFFSETFROM:-0800
TZOFFSETTO:-0700
TZNAME:PDT
DTSTART:20210314T100000
END:DAYLIGHT
BEGIN:STANDARD
TZOFFSETFROM:-0700
TZOFFSETTO:-0800
TZNAME:PST
DTSTART:20211107T090000
END:STANDARD
BEGIN:DAYLIGHT
TZOFFSETFROM:-0800
TZOFFSETTO:-0700
TZNAME:PDT
DTSTART:20220313T100000
END:DAYLIGHT
BEGIN:STANDARD
TZOFFSETFROM:-0700
TZOFFSETTO:-0800
TZNAME:PST
DTSTART:20221106T090000
END:STANDARD
BEGIN:DAYLIGHT
TZOFFSETFROM:-0800
TZOFFSETTO:-0700
TZNAME:PDT
DTSTART:20230312T100000
END:DAYLIGHT
BEGIN:STANDARD
TZOFFSETFROM:-0700
TZOFFSETTO:-0800
TZNAME:PST
DTSTART:20231105T090000
END:STANDARD
END:VTIMEZONE
BEGIN:VEVENT
DTSTART;TZID=America/Los_Angeles:20220630T200000
DTEND;TZID=America/Los_Angeles:20220630T210000
DTSTAMP:20260423T032446
CREATED:20220619T055756Z
LAST-MODIFIED:20220619T055900Z
UID:10001575-1656619200-1656622800@indiacurrents.com
SUMMARY:Abhinaya Dance Company  presents  Bharatanatyam performance
DESCRIPTION:Abhinaya Dance Company presents Bharatanatyam performance by Kavya Ganesh (student of acclaimed dancer Rama Vaidyanathan) \nThursday\, June 30\, 2022 \n8pm to 9pm \nChinese Performing Arts Center \n6148 Bollinger Road\, San Jose\, CA 95129 \nFREE ADMISSION \nVisiting artist Kavya Ganesh is an excellent dancer who has toured with Rama Vaidyanathan’s company around the world. \nFor more info contact abdanceco@gmail.com \nPhoto credit- Santhosh Selvaraj \n\n\n	Related
URL:https://indiacurrents.com/event/abhinaya-dance-company-presents-bharatanatyam-performance/
LOCATION:Chinese Performing Arts Center  6148 Bollinger Road\, San Jose\, CA 95129
CATEGORIES:Cultural,Dance,Music
ATTACH;FMTTYPE=image/jpeg:https://indiacurrents.com/wp-content/uploads/2022/06/unnamed.jpg
END:VEVENT
BEGIN:VEVENT
DTSTART;TZID=America/Los_Angeles:20220626T160000
DTEND;TZID=America/Los_Angeles:20220626T170000
DTSTAMP:20260423T032446
CREATED:20220619T055116Z
LAST-MODIFIED:20220619T055116Z
UID:10001574-1656259200-1656262800@indiacurrents.com
SUMMARY:Abhinaya Dance Company of San Jose presents  Bharatanatyam Arangetram
DESCRIPTION:Abhinaya Dance Company of San Jose presents Bharatanatyam Arangetram of Maya Iyer \n-Sunday\, June 26\, 2022 4pm \nALL ARE WELCOME \nWoodside High School Performing Arts Center \n199 Churchill Avenue\, Woodside\, CA \nMythili Kumar (nattuvangam) \nAsha Ramesh (vocals) \nN. Narayan (mridangam & kanjira) \nShanthi Narayan (violin) \nFor more info contact abdanceco@gmail.com \nPhoto credit- Santhosh Selvaraj \n\n\n	Related
URL:https://indiacurrents.com/event/abhinaya-dance-company-of-san-jose-presents-bharatanatyam-arangetram/
LOCATION:Woodside High School Performing Arts Center  199 Churchill Avenue\, Woodside\,CA
CATEGORIES:Cultural,Dance
ATTACH;FMTTYPE=image/jpeg:https://indiacurrents.com/wp-content/uploads/2022/06/unnamed-2.jpg
END:VEVENT
END:VCALENDAR