BEGIN:VCALENDAR
VERSION:2.0
PRODID:-//India Currents - ECPv6.15.20//NONSGML v1.0//EN
CALSCALE:GREGORIAN
METHOD:PUBLISH
X-WR-CALNAME:India Currents
X-ORIGINAL-URL:https://indiacurrents.com
X-WR-CALDESC:Events for India Currents
REFRESH-INTERVAL;VALUE=DURATION:PT1H
X-Robots-Tag:noindex
X-PUBLISHED-TTL:PT1H
BEGIN:VTIMEZONE
TZID:America/Los_Angeles
BEGIN:DAYLIGHT
TZOFFSETFROM:-0800
TZOFFSETTO:-0700
TZNAME:PDT
DTSTART:20220313T100000
END:DAYLIGHT
BEGIN:STANDARD
TZOFFSETFROM:-0700
TZOFFSETTO:-0800
TZNAME:PST
DTSTART:20221106T090000
END:STANDARD
BEGIN:DAYLIGHT
TZOFFSETFROM:-0800
TZOFFSETTO:-0700
TZNAME:PDT
DTSTART:20230312T100000
END:DAYLIGHT
BEGIN:STANDARD
TZOFFSETFROM:-0700
TZOFFSETTO:-0800
TZNAME:PST
DTSTART:20231105T090000
END:STANDARD
BEGIN:DAYLIGHT
TZOFFSETFROM:-0800
TZOFFSETTO:-0700
TZNAME:PDT
DTSTART:20240310T100000
END:DAYLIGHT
BEGIN:STANDARD
TZOFFSETFROM:-0700
TZOFFSETTO:-0800
TZNAME:PST
DTSTART:20241103T090000
END:STANDARD
END:VTIMEZONE
BEGIN:VEVENT
DTSTART;TZID=America/Los_Angeles:20230304T100000
DTEND;TZID=America/Los_Angeles:20230304T150000
DTSTAMP:20260423T052150
CREATED:20230227T034259Z
LAST-MODIFIED:20230227T034259Z
UID:10001692-1677924000-1677942000@indiacurrents.com
SUMMARY:GCA Holi Celebration 2023
DESCRIPTION:Let the festivities begin! Join us for Holi\, the festival of colors and joy! Holi celebrates the arrival of Spring\, a season of joy and hope. Experience the vibrant colors of Holi with a celebration of traditional Indian music\, food\, and dance to create lasting memories with your family and friends and our GCA community at large. \nJoin us for a day of fun and festivities you won’t soon forget! \nOnly GCA supplied colors are allowed at the event as these are city of Fremont approved colors\, No exceptions! Everyone who is attending the event must register at the registration booth. Kids under 5 years entrance is free. \nCLICK HERE FOR MORE INFORMATION \n\n\n	Related
URL:https://indiacurrents.com/event/gca-holi-celebration-2023/
LOCATION:Central Park\, 40000 Paseo Padre Pkwy\, Fremont\, CA 94538
CATEGORIES:Holi Festival
ATTACH;FMTTYPE=image/jpeg:https://indiacurrents.com/wp-content/uploads/2023/02/2023-02-22-04-20-13-211_77.jpg
END:VEVENT
END:VCALENDAR