BEGIN:VCALENDAR
VERSION:2.0
PRODID:-//India Currents - ECPv6.15.20//NONSGML v1.0//EN
CALSCALE:GREGORIAN
METHOD:PUBLISH
X-WR-CALNAME:India Currents
X-ORIGINAL-URL:https://indiacurrents.com
X-WR-CALDESC:Events for India Currents
REFRESH-INTERVAL;VALUE=DURATION:PT1H
X-Robots-Tag:noindex
X-PUBLISHED-TTL:PT1H
BEGIN:VTIMEZONE
TZID:Asia/Kolkata
BEGIN:STANDARD
TZOFFSETFROM:+0530
TZOFFSETTO:+0530
TZNAME:IST
DTSTART:20240101T000000
END:STANDARD
END:VTIMEZONE
BEGIN:VEVENT
DTSTART;TZID=Asia/Kolkata:20251011T190000
DTEND;TZID=Asia/Kolkata:20251011T210000
DTSTAMP:20260423T111833
CREATED:20251006T053546Z
LAST-MODIFIED:20251006T053546Z
UID:10007136-1760209200-1760216400@indiacurrents.com
SUMMARY:Finishing School Workshop
DESCRIPTION:Join us for an interactive 2-hour Finishing School Workshop where you and your child will discover: \n* The importance of soft skills vs hard skills\n* Speaking up with confidence\n* Effective communication for success\n* Essential etiquette & habits\n* Leadership skills to excel in academics & beyond \n\n\n	Related
URL:https://indiacurrents.com/event/finishing-school-workshop/
LOCATION:Virtual Event\, United States
CATEGORIES:Workshop
ATTACH;FMTTYPE=image/jpeg:https://indiacurrents.com/wp-content/uploads/2025/10/Event-banner-FS.jpg
ORGANIZER;CN="eKal Academy":MAILTO:info@ekalacademy.com
END:VEVENT
END:VCALENDAR