BEGIN:VCALENDAR
VERSION:2.0
PRODID:-//India Currents - ECPv6.15.20//NONSGML v1.0//EN
CALSCALE:GREGORIAN
METHOD:PUBLISH
X-WR-CALNAME:India Currents
X-ORIGINAL-URL:https://indiacurrents.com
X-WR-CALDESC:Events for India Currents
REFRESH-INTERVAL;VALUE=DURATION:PT1H
X-Robots-Tag:noindex
X-PUBLISHED-TTL:PT1H
BEGIN:VTIMEZONE
TZID:America/Los_Angeles
BEGIN:DAYLIGHT
TZOFFSETFROM:-0800
TZOFFSETTO:-0700
TZNAME:PDT
DTSTART:20210314T100000
END:DAYLIGHT
BEGIN:STANDARD
TZOFFSETFROM:-0700
TZOFFSETTO:-0800
TZNAME:PST
DTSTART:20211107T090000
END:STANDARD
BEGIN:DAYLIGHT
TZOFFSETFROM:-0800
TZOFFSETTO:-0700
TZNAME:PDT
DTSTART:20220313T100000
END:DAYLIGHT
BEGIN:STANDARD
TZOFFSETFROM:-0700
TZOFFSETTO:-0800
TZNAME:PST
DTSTART:20221106T090000
END:STANDARD
BEGIN:DAYLIGHT
TZOFFSETFROM:-0800
TZOFFSETTO:-0700
TZNAME:PDT
DTSTART:20230312T100000
END:DAYLIGHT
BEGIN:STANDARD
TZOFFSETFROM:-0700
TZOFFSETTO:-0800
TZNAME:PST
DTSTART:20231105T090000
END:STANDARD
END:VTIMEZONE
BEGIN:VEVENT
DTSTART;TZID=America/Los_Angeles:20220917T200000
DTEND;TZID=America/Los_Angeles:20220917T200000
DTSTAMP:20260419T121046
CREATED:20220527T134740Z
LAST-MODIFIED:20220527T135125Z
UID:10001567-1663444800-1663444800@indiacurrents.com
SUMMARY:Presenting traditional Carnatic music with the spirit and verve of Jazz
DESCRIPTION:SAVE THE DATE \nFor an exciting community event at the Ford! \nClick here for more information
URL:https://indiacurrents.com/event/presenting-traditional-carnatic-music-with-the-spirit-and-verve-of-jazz/
LOCATION:The Ford \,2580 Cahuenga Blvd. East\, Los Angeles\, CA 90068
ATTACH;FMTTYPE=image/png:https://indiacurrents.com/wp-content/uploads/2022/05/unnamed-6.png
END:VEVENT
END:VCALENDAR