BEGIN:VCALENDAR
VERSION:2.0
PRODID:-//India Currents - ECPv6.15.20//NONSGML v1.0//EN
CALSCALE:GREGORIAN
METHOD:PUBLISH
X-ORIGINAL-URL:https://indiacurrents.com
X-WR-CALDESC:Events for India Currents
REFRESH-INTERVAL;VALUE=DURATION:PT1H
X-Robots-Tag:noindex
X-PUBLISHED-TTL:PT1H
BEGIN:VTIMEZONE
TZID:America/Los_Angeles
BEGIN:DAYLIGHT
TZOFFSETFROM:-0800
TZOFFSETTO:-0700
TZNAME:PDT
DTSTART:20210314T100000
END:DAYLIGHT
BEGIN:STANDARD
TZOFFSETFROM:-0700
TZOFFSETTO:-0800
TZNAME:PST
DTSTART:20211107T090000
END:STANDARD
BEGIN:DAYLIGHT
TZOFFSETFROM:-0800
TZOFFSETTO:-0700
TZNAME:PDT
DTSTART:20220313T100000
END:DAYLIGHT
BEGIN:STANDARD
TZOFFSETFROM:-0700
TZOFFSETTO:-0800
TZNAME:PST
DTSTART:20221106T090000
END:STANDARD
BEGIN:DAYLIGHT
TZOFFSETFROM:-0800
TZOFFSETTO:-0700
TZNAME:PDT
DTSTART:20230312T100000
END:DAYLIGHT
BEGIN:STANDARD
TZOFFSETFROM:-0700
TZOFFSETTO:-0800
TZNAME:PST
DTSTART:20231105T090000
END:STANDARD
END:VTIMEZONE
BEGIN:VEVENT
DTSTART;TZID=America/Los_Angeles:20220917T180000
DTEND;TZID=America/Los_Angeles:20220917T210000
DTSTAMP:20260420T110138
CREATED:20220915T140851Z
LAST-MODIFIED:20220915T140851Z
UID:10001677-1663437600-1663448400@indiacurrents.com
SUMMARY:Seven Five - Melody meets Rhythm ft. Carnatica Bros
DESCRIPTION:A special program featuring Carnatica Brothers\, Vasudha Ravi\, Nirmala Rajasekar\, B.V. Raghavendra Rao\, and Tanjavur Murugaboopathi
URL:https://indiacurrents.com/event/seven-five-melody-meets-rhythm-ft-carnatica-bros/
LOCATION:Seaside Center for Spiritual Living\, 1613 Lake Dr\, Encinitas\, CA 92024\, USA
CATEGORIES:Classical Indian Music,Music
ATTACH;FMTTYPE=image/jpeg:https://indiacurrents.com/wp-content/uploads/2022/09/unnamed-1-1.jpg
ORGANIZER;CN="Indian Fine Arts Academy of San Diego (IFAASD)":MAILTO:indianclassicalmusicsandiego@gmail.com
END:VEVENT
BEGIN:VEVENT
DTSTART;TZID=America/Los_Angeles:20220828T160000
DTEND;TZID=America/Los_Angeles:20220828T160000
DTSTAMP:20260420T110138
CREATED:20220811T145407Z
LAST-MODIFIED:20220811T145407Z
UID:10001635-1661702400-1661702400@indiacurrents.com
SUMMARY:Abhinaya Dance Company of San Jose  Presents  Bharatanatyam Arangetram
DESCRIPTION:Ambhranee Yakkundi \nSunday \nAugust 28\, 2022 \n4.00 pm \nMythili Kumar (nattuvangam) \nAsha Ramesh  (vocals) \nN. Narayan (mridangam) \nShanthi Narayan (violin) \nSpecial Guests Artists \nNachiketa Yakkundi- Vocal \nRavi Gutala- Tabla \nVivek Datar- Harmonium \nFor more info contact abdanceco@gmail.com
URL:https://indiacurrents.com/event/abhinaya-dance-company-of-san-jose-presents-bharatanatyam-arangetram-2/
LOCATION:Cubberley Theater  4120 Middlefield Rd\,  Palo Alto\, CA 94306
CATEGORIES:Classical Indian Music,Cultural,Dance,Music
ATTACH;FMTTYPE=image/jpeg:https://indiacurrents.com/wp-content/uploads/2022/08/unnamed-3-1.jpg
END:VEVENT
BEGIN:VEVENT
DTSTART;TZID=America/Los_Angeles:20220820T180000
DTEND;TZID=America/Los_Angeles:20220820T180000
DTSTAMP:20260420T110138
CREATED:20220811T151549Z
LAST-MODIFIED:20220811T151549Z
UID:10001636-1661018400-1661018400@indiacurrents.com
SUMMARY:Abhinaya Dance Company of San Jose  Presents  Bharatanatyam Arangetram
DESCRIPTION:Oviya Rajan \nSaturday\, \nAugust 20\, 2022 \n6pm \nMythili Kumar (nattuvangam) \nSindhu Natarajan (vocals) \nRavindra Bharathy Sridharan (mridangam & kanjira) \nVikram Ragukumar (violin) \nFor more info contact abdanceco@gmail.com
URL:https://indiacurrents.com/event/abhinaya-dance-company-of-san-jose-presents-bharatanatyam-arangetram-3/
LOCATION:Woodside High School Theater  199 Churchill Ave\, Woodside\, CA 94062
CATEGORIES:Classical Indian Music,Cultural,Dance
ATTACH;FMTTYPE=image/jpeg:https://indiacurrents.com/wp-content/uploads/2022/08/unnamed-2.jpg
END:VEVENT
BEGIN:VEVENT
DTSTART;TZID=America/Los_Angeles:20220814T160000
DTEND;TZID=America/Los_Angeles:20220814T160000
DTSTAMP:20260420T110138
CREATED:20220811T144238Z
LAST-MODIFIED:20220811T144238Z
UID:10001634-1660492800-1660492800@indiacurrents.com
SUMMARY:Upcoming Arangetrams in August 2022
DESCRIPTION:Abhinaya Dance Company of San Jose \nPresents \nBharatanatyam Arangetram of \nSrinidhi Nagarajan \nSunday \nAugust 14\, 2022 \n4.00 pm \nMythili Kumar (nattuvangam) \nSindhu Natarajan (vocals) \nN. Narayan (mridangam & kanjira) \nShanthi Narayan (violin) \nFor more info contact abdanceco@gmail.com
URL:https://indiacurrents.com/event/upcoming-arangetrams-in-august-2022/
LOCATION:Cubberley Theater  4120 Middlefield Rd\,  Palo Alto\, CA 94306
CATEGORIES:Cultural,Dance,Music
ATTACH;FMTTYPE=image/jpeg:https://indiacurrents.com/wp-content/uploads/2022/08/unnamed.jpg
END:VEVENT
END:VCALENDAR