BEGIN:VCALENDAR
VERSION:2.0
PRODID:-//India Currents - ECPv6.15.20//NONSGML v1.0//EN
CALSCALE:GREGORIAN
METHOD:PUBLISH
X-WR-CALNAME:India Currents
X-ORIGINAL-URL:https://indiacurrents.com
X-WR-CALDESC:Events for India Currents
REFRESH-INTERVAL;VALUE=DURATION:PT1H
X-Robots-Tag:noindex
X-PUBLISHED-TTL:PT1H
BEGIN:VTIMEZONE
TZID:America/Los_Angeles
BEGIN:DAYLIGHT
TZOFFSETFROM:-0800
TZOFFSETTO:-0700
TZNAME:PDT
DTSTART:20210314T100000
END:DAYLIGHT
BEGIN:STANDARD
TZOFFSETFROM:-0700
TZOFFSETTO:-0800
TZNAME:PST
DTSTART:20211107T090000
END:STANDARD
BEGIN:DAYLIGHT
TZOFFSETFROM:-0800
TZOFFSETTO:-0700
TZNAME:PDT
DTSTART:20220313T100000
END:DAYLIGHT
BEGIN:STANDARD
TZOFFSETFROM:-0700
TZOFFSETTO:-0800
TZNAME:PST
DTSTART:20221106T090000
END:STANDARD
BEGIN:DAYLIGHT
TZOFFSETFROM:-0800
TZOFFSETTO:-0700
TZNAME:PDT
DTSTART:20230312T100000
END:DAYLIGHT
BEGIN:STANDARD
TZOFFSETFROM:-0700
TZOFFSETTO:-0800
TZNAME:PST
DTSTART:20231105T090000
END:STANDARD
END:VTIMEZONE
BEGIN:VEVENT
DTSTART;TZID=America/Los_Angeles:20220813T110000
DTEND;TZID=America/Los_Angeles:20220813T110000
DTSTAMP:20260424T025924
CREATED:20220805T221108Z
LAST-MODIFIED:20220805T221108Z
UID:10001631-1660388400-1660388400@indiacurrents.com
SUMMARY:AIA -Swadesh celebrates India
DESCRIPTION:Swades – August 13th\, 2022 at FalconX parking lot\, Milpitas\nClick here to Register for Dance Performance\nClick here to Buy Tickets\nClick here to Register for Carrom\, Chess & Rangoli completions
URL:https://indiacurrents.com/event/aia-swadesh-celebrates-india/
LOCATION:691 S Blvd\, Milpitas\, CA 95035
CATEGORIES:Bollywood,Cultural,Dance,Music
ATTACH;FMTTYPE=image/jpeg:https://indiacurrents.com/wp-content/uploads/2022/08/swades-5.jpeg
END:VEVENT
END:VCALENDAR