BEGIN:VCALENDAR
VERSION:2.0
PRODID:-//India Currents - ECPv6.15.20//NONSGML v1.0//EN
CALSCALE:GREGORIAN
METHOD:PUBLISH
X-ORIGINAL-URL:https://indiacurrents.com
X-WR-CALDESC:Events for India Currents
REFRESH-INTERVAL;VALUE=DURATION:PT1H
X-Robots-Tag:noindex
X-PUBLISHED-TTL:PT1H
BEGIN:VTIMEZONE
TZID:America/Los_Angeles
BEGIN:DAYLIGHT
TZOFFSETFROM:-0800
TZOFFSETTO:-0700
TZNAME:PDT
DTSTART:20220313T100000
END:DAYLIGHT
BEGIN:STANDARD
TZOFFSETFROM:-0700
TZOFFSETTO:-0800
TZNAME:PST
DTSTART:20221106T090000
END:STANDARD
BEGIN:DAYLIGHT
TZOFFSETFROM:-0800
TZOFFSETTO:-0700
TZNAME:PDT
DTSTART:20230312T100000
END:DAYLIGHT
BEGIN:STANDARD
TZOFFSETFROM:-0700
TZOFFSETTO:-0800
TZNAME:PST
DTSTART:20231105T090000
END:STANDARD
BEGIN:DAYLIGHT
TZOFFSETFROM:-0800
TZOFFSETTO:-0700
TZNAME:PDT
DTSTART:20240310T100000
END:DAYLIGHT
BEGIN:STANDARD
TZOFFSETFROM:-0700
TZOFFSETTO:-0800
TZNAME:PST
DTSTART:20241103T090000
END:STANDARD
END:VTIMEZONE
BEGIN:VEVENT
DTSTART;TZID=America/Los_Angeles:20231209T160000
DTEND;TZID=America/Los_Angeles:20231209T173000
DTSTAMP:20260420T153522
CREATED:20231208T183559Z
LAST-MODIFIED:20231208T183559Z
UID:10002750-1702137600-1702143000@indiacurrents.com
SUMMARY:Bharatanatyam Margam - Traditional South Indian Dance Performance
DESCRIPTION:Traditional Bharatanatyam Margam presented by Priyanka Raghuraman for Yuva Bharati’s Pratibha Concert Series. The performance will feature popular classical compositions of renowned composers like Adi Shankara interwoven with humorous works of writers like Sri Kalki and presented in a vibrant solo format. Priyanka is a multidisplinary Performing Artist\, Teacher and Choregrapher based in the Bay Area. She is a senior performer of Anitha Guha’s Bharathanjali and heads Priyada Arts – a destination of learning Bharatantyam in Newark\, CA.
URL:https://indiacurrents.com/event/bharatanatyam-margam-traditional-south-indian-dance-performance/
LOCATION:Midpen Media Center Studios 900 San Antonio Rd\, Palo Alto\, CA
CATEGORIES:Art,Classical Indian Music,Cultural,Dance
ATTACH;FMTTYPE=image/jpeg:https://indiacurrents.com/wp-content/uploads/2023/12/Flier-.jpg
END:VEVENT
END:VCALENDAR